BEGIN:VCALENDAR
VERSION:2.0
PRODID:-//Real Club de Golf de Castiello - ECPv6.15.11//NONSGML v1.0//EN
CALSCALE:GREGORIAN
METHOD:PUBLISH
X-WR-CALNAME:Real Club de Golf de Castiello
X-ORIGINAL-URL:https://castiello.com
X-WR-CALDESC:Eventos para Real Club de Golf de Castiello
REFRESH-INTERVAL;VALUE=DURATION:PT1H
X-Robots-Tag:noindex
X-PUBLISHED-TTL:PT1H
BEGIN:VTIMEZONE
TZID:Europe/Madrid
BEGIN:DAYLIGHT
TZOFFSETFROM:+0100
TZOFFSETTO:+0200
TZNAME:CEST
DTSTART:20250330T010000
END:DAYLIGHT
BEGIN:STANDARD
TZOFFSETFROM:+0200
TZOFFSETTO:+0100
TZNAME:CET
DTSTART:20251026T010000
END:STANDARD
BEGIN:DAYLIGHT
TZOFFSETFROM:+0100
TZOFFSETTO:+0200
TZNAME:CEST
DTSTART:20260329T010000
END:DAYLIGHT
BEGIN:STANDARD
TZOFFSETFROM:+0200
TZOFFSETTO:+0100
TZNAME:CET
DTSTART:20261025T010000
END:STANDARD
BEGIN:DAYLIGHT
TZOFFSETFROM:+0100
TZOFFSETTO:+0200
TZNAME:CEST
DTSTART:20270328T010000
END:DAYLIGHT
BEGIN:STANDARD
TZOFFSETFROM:+0200
TZOFFSETTO:+0100
TZNAME:CET
DTSTART:20271031T010000
END:STANDARD
END:VTIMEZONE
BEGIN:VEVENT
DTSTART;TZID=Europe/Madrid:20260522T080000
DTEND;TZID=Europe/Madrid:20260524T170000
DTSTAMP:20260422T181054
CREATED:20260326T163111Z
LAST-MODIFIED:20260326T163111Z
UID:92569-1779436800-1779642000@castiello.com
SUMMARY:I Torneo Primavera
DESCRIPTION:
URL:https://castiello.com/evento_calendario/i-torneo-primavera/
CATEGORIES:Torneo Croquet
END:VEVENT
END:VCALENDAR