BEGIN:VCALENDAR
VERSION:2.0
PRODID:-//Real Club de Golf de Castiello - ECPv6.15.11//NONSGML v1.0//EN
CALSCALE:GREGORIAN
METHOD:PUBLISH
X-ORIGINAL-URL:https://castiello.com/en/
X-WR-CALDESC:Events for Real Club de Golf de Castiello
REFRESH-INTERVAL;VALUE=DURATION:PT1H
X-Robots-Tag:noindex
X-PUBLISHED-TTL:PT1H
BEGIN:VTIMEZONE
TZID:UTC
BEGIN:STANDARD
TZOFFSETFROM:+0000
TZOFFSETTO:+0000
TZNAME:UTC
DTSTART:20240101T000000
END:STANDARD
END:VTIMEZONE
BEGIN:VEVENT
DTSTART;VALUE=DATE:20251012
DTEND;VALUE=DATE:20251013
DTSTAMP:20260423T005121
CREATED:20250504T072855Z
LAST-MODIFIED:20250701T112914Z
UID:89220-1760227200-1760313599@castiello.com
SUMMARY:III Memorial Joseph
DESCRIPTION:
URL:https://castiello.com/en/evento_calendario/iii-memorial-joseph/
END:VEVENT
END:VCALENDAR