BEGIN:VCALENDAR
VERSION:2.0
PRODID:-//Real Club de Golf de Castiello - ECPv6.15.11//NONSGML v1.0//EN
CALSCALE:GREGORIAN
METHOD:PUBLISH
X-WR-CALNAME:Real Club de Golf de Castiello
X-ORIGINAL-URL:https://castiello.com/en/
X-WR-CALDESC:Events for Real Club de Golf de Castiello
REFRESH-INTERVAL;VALUE=DURATION:PT1H
X-Robots-Tag:noindex
X-PUBLISHED-TTL:PT1H
BEGIN:VTIMEZONE
TZID:UTC
BEGIN:STANDARD
TZOFFSETFROM:+0000
TZOFFSETTO:+0000
TZNAME:UTC
DTSTART:20240101T000000
END:STANDARD
END:VTIMEZONE
BEGIN:VEVENT
DTSTART;VALUE=DATE:20250817
DTEND;VALUE=DATE:20250818
DTSTAMP:20260423T082918
CREATED:20250504T070203Z
LAST-MODIFIED:20250701T113450Z
UID:89246-1755388800-1755475199@castiello.com
SUMMARY:18th Married Couples and Mixed Pairs Tournament
DESCRIPTION:
URL:https://castiello.com/en/evento_calendario/18th-married-couples-and-mixed-pairs-tournament/
END:VEVENT
BEGIN:VEVENT
DTSTART;VALUE=DATE:20250815
DTEND;VALUE=DATE:20250817
DTSTAMP:20260423T082918
CREATED:20250504T065620Z
LAST-MODIFIED:20250701T113512Z
UID:89248-1755216000-1755388799@castiello.com
SUMMARY:7th Caja Rural de Asturias Tournament
DESCRIPTION:
URL:https://castiello.com/en/evento_calendario/7th-caja-rural-de-asturias-tournament/
END:VEVENT
BEGIN:VEVENT
DTSTART;VALUE=DATE:20250810
DTEND;VALUE=DATE:20250811
DTSTAMP:20260423T082918
CREATED:20250504T065534Z
LAST-MODIFIED:20250701T113539Z
UID:89250-1754784000-1754870399@castiello.com
SUMMARY:15th Parents and Children Tournament
DESCRIPTION:
URL:https://castiello.com/en/evento_calendario/15th-parents-and-children-tournament/
END:VEVENT
BEGIN:VEVENT
DTSTART;TZID=UTC:20250808T080000
DTEND;TZID=UTC:20250809T170000
DTSTAMP:20260423T082918
CREATED:20250504T065359Z
LAST-MODIFIED:20250701T113653Z
UID:89273-1754640000-1754758800@castiello.com
SUMMARY:5th Proyecto Hombre Charity Tournament
DESCRIPTION:
URL:https://castiello.com/en/evento_calendario/5th-proyecto-hombre-charity-tournament/
END:VEVENT
BEGIN:VEVENT
DTSTART;TZID=UTC:20250806T000000
DTEND;TZID=UTC:20250807T235900
DTSTAMP:20260423T082918
CREATED:20250504T065312Z
LAST-MODIFIED:20250701T113718Z
UID:89274-1754438400-1754611140@castiello.com
SUMMARY:Aesgolf Castiello Tournament
DESCRIPTION:
URL:https://castiello.com/en/evento_calendario/aesgolf-castiello-tournament/
END:VEVENT
BEGIN:VEVENT
DTSTART;VALUE=DATE:20250804
DTEND;VALUE=DATE:20250805
DTSTAMP:20260423T082918
CREATED:20250621T090228Z
LAST-MODIFIED:20250701T113748Z
UID:89276-1754265600-1754351999@castiello.com
SUMMARY:2025 Miguel Ángel Jiménez Junior Circuit (PV FGPA)
DESCRIPTION:
URL:https://castiello.com/en/evento_calendario/2025-miguel-angel-jimenez-junior-circuit-pv-fgpa/
END:VEVENT
BEGIN:VEVENT
DTSTART;VALUE=DATE:20250803
DTEND;VALUE=DATE:20250804
DTSTAMP:20260423T082918
CREATED:20250504T065240Z
LAST-MODIFIED:20250701T113810Z
UID:89279-1754179200-1754265599@castiello.com
SUMMARY:6th Red Tees Tournament
DESCRIPTION:
URL:https://castiello.com/en/evento_calendario/6th-red-tees-tournament/
END:VEVENT
BEGIN:VEVENT
DTSTART;VALUE=DATE:20250802
DTEND;VALUE=DATE:20250803
DTSTAMP:20260423T082918
CREATED:20250504T065156Z
LAST-MODIFIED:20250701T114007Z
UID:89280-1754092800-1754179199@castiello.com
SUMMARY:2025 Summum Circuit
DESCRIPTION:
URL:https://castiello.com/en/evento_calendario/2025-summum-circuit/
END:VEVENT
BEGIN:VEVENT
DTSTART;VALUE=DATE:20250728
DTEND;VALUE=DATE:20250729
DTSTAMP:20260423T082918
CREATED:20250621T090035Z
LAST-MODIFIED:20250701T114029Z
UID:89281-1753660800-1753747199@castiello.com
SUMMARY:2nd Siroko Junior Tournament
DESCRIPTION:
URL:https://castiello.com/en/evento_calendario/2nd-siroko-junior-tournament/
END:VEVENT
BEGIN:VEVENT
DTSTART;TZID=UTC:20250726T080000
DTEND;TZID=UTC:20250727T080000
DTSTAMP:20260423T082918
CREATED:20250504T071050Z
LAST-MODIFIED:20250701T114051Z
UID:89283-1753516800-1753603200@castiello.com
SUMMARY:25th Castiello Cup
DESCRIPTION:
URL:https://castiello.com/en/evento_calendario/25th-castiello-cup/
END:VEVENT
BEGIN:VEVENT
DTSTART;VALUE=DATE:20250721
DTEND;VALUE=DATE:20250722
DTSTAMP:20260423T082918
CREATED:20250621T085645Z
LAST-MODIFIED:20250701T114113Z
UID:89284-1753056000-1753142399@castiello.com
SUMMARY:2025 Ligas Golf Junior Tournament (PV FGPA)
DESCRIPTION:
URL:https://castiello.com/en/evento_calendario/2025-ligas-golf-junior-tournament-pv-fgpa/
END:VEVENT
BEGIN:VEVENT
DTSTART;VALUE=DATE:20250719
DTEND;VALUE=DATE:20250721
DTSTAMP:20260423T082918
CREATED:20250504T064750Z
LAST-MODIFIED:20250701T114133Z
UID:89289-1752883200-1753055999@castiello.com
SUMMARY:2025 RCG Castiello Championship
DESCRIPTION:
URL:https://castiello.com/en/evento_calendario/2025-rcg-castiello-championship/
END:VEVENT
BEGIN:VEVENT
DTSTART;VALUE=DATE:20250717
DTEND;VALUE=DATE:20250718
DTSTAMP:20260423T082918
CREATED:20250504T064705Z
LAST-MODIFIED:20250701T114158Z
UID:89290-1752710400-1752796799@castiello.com
SUMMARY:10th Aesgolf Paraíso Natural Grand Prix
DESCRIPTION:
URL:https://castiello.com/en/evento_calendario/10th-aesgolf-paraiso-natural-grand-prix/
END:VEVENT
BEGIN:VEVENT
DTSTART;VALUE=DATE:20250713
DTEND;VALUE=DATE:20250714
DTSTAMP:20260423T082918
CREATED:20250621T085449Z
LAST-MODIFIED:20250701T114220Z
UID:89291-1752364800-1752451199@castiello.com
SUMMARY:1st Castiello Golf Shop Junior Tournament
DESCRIPTION:
URL:https://castiello.com/en/evento_calendario/1st-castiello-golf-shop-junior-tournament/
END:VEVENT
BEGIN:VEVENT
DTSTART;VALUE=DATE:20250713
DTEND;VALUE=DATE:20250714
DTSTAMP:20260423T082918
CREATED:20250614T060729Z
LAST-MODIFIED:20250701T114250Z
UID:89293-1752364800-1752451199@castiello.com
SUMMARY:2025 Interclubs Santa Marina Golf – R.C.G. de Castiello (Away)
DESCRIPTION:
URL:https://castiello.com/en/evento_calendario/2025-interclubs-santa-marina-golf-r-c-g-de-castiello-away/
END:VEVENT
BEGIN:VEVENT
DTSTART;VALUE=DATE:20250711
DTEND;VALUE=DATE:20250713
DTSTAMP:20260423T082918
CREATED:20250504T064605Z
LAST-MODIFIED:20250701T114308Z
UID:89295-1752192000-1752364799@castiello.com
SUMMARY:1st Radio Marca Asturias Tournament
DESCRIPTION:
URL:https://castiello.com/en/evento_calendario/1st-radio-marca-asturias-tournament/
END:VEVENT
BEGIN:VEVENT
DTSTART;VALUE=DATE:20250707
DTEND;VALUE=DATE:20250708
DTSTAMP:20260423T082918
CREATED:20250621T061144Z
LAST-MODIFIED:20250701T114336Z
UID:89297-1751846400-1751932799@castiello.com
SUMMARY:8th Under-18 Charity Tournament – Rotary Club of Gijón (PV FGPA)
DESCRIPTION:
URL:https://castiello.com/en/evento_calendario/8th-under-18-charity-tournament-rotary-club-of-gijon-pv-fgpa/
END:VEVENT
BEGIN:VEVENT
DTSTART;VALUE=DATE:20250706
DTEND;VALUE=DATE:20250707
DTSTAMP:20260423T082918
CREATED:20250504T064523Z
LAST-MODIFIED:20250701T114406Z
UID:89298-1751760000-1751846399@castiello.com
SUMMARY:Interclubs RCG de Castiello – Real Club de Golf La Cuesta (Home)
DESCRIPTION:
URL:https://castiello.com/en/evento_calendario/interclubs-rcg-de-castiello-real-club-de-golf-la-cuesta-home/
END:VEVENT
BEGIN:VEVENT
DTSTART;VALUE=DATE:20250705
DTEND;VALUE=DATE:20250706
DTSTAMP:20260423T082918
CREATED:20250504T064431Z
LAST-MODIFIED:20250701T114431Z
UID:89303-1751673600-1751759999@castiello.com
SUMMARY:2025 Huelva la Luz Golf Circuit
DESCRIPTION:
URL:https://castiello.com/en/evento_calendario/2025-huelva-la-luz-golf-circuit/
END:VEVENT
BEGIN:VEVENT
DTSTART;VALUE=DATE:20250630
DTEND;VALUE=DATE:20250701
DTSTAMP:20260423T082918
CREATED:20250621T063052Z
LAST-MODIFIED:20250701T114510Z
UID:89304-1751241600-1751327999@castiello.com
SUMMARY:2025 Junior Summer Kick-Off Tournament
DESCRIPTION:
URL:https://castiello.com/en/evento_calendario/2025-junior-summer-kick-off-tournament/
END:VEVENT
BEGIN:VEVENT
DTSTART;VALUE=DATE:20250628
DTEND;VALUE=DATE:20250629
DTSTAMP:20260423T082918
CREATED:20250504T062559Z
LAST-MODIFIED:20250701T114539Z
UID:89305-1751068800-1751155199@castiello.com
SUMMARY:2025 SC Ambassador Club Circuit by Holiday Golf
DESCRIPTION:
URL:https://castiello.com/en/evento_calendario/2025-sc-ambassador-club-circuit-by-holiday-golf/
END:VEVENT
BEGIN:VEVENT
DTSTART;VALUE=DATE:20250624
DTEND;VALUE=DATE:20250625
DTSTAMP:20260423T082918
CREATED:20250504T062509Z
LAST-MODIFIED:20250701T114601Z
UID:89307-1750723200-1750809599@castiello.com
SUMMARY:7th International Women’s Golf Day Tournament
DESCRIPTION:
URL:https://castiello.com/en/evento_calendario/7th-international-womens-golf-day-tournament/
END:VEVENT
BEGIN:VEVENT
DTSTART;VALUE=DATE:20250621
DTEND;VALUE=DATE:20250622
DTSTAMP:20260423T082918
CREATED:20250504T062423Z
LAST-MODIFIED:20250701T114648Z
UID:89308-1750464000-1750550399@castiello.com
SUMMARY:1st Castiello Golf Shop Tournament
DESCRIPTION:Tee Times\nOverall Leaderboard\nWinners Chart
URL:https://castiello.com/en/evento_calendario/1st-castiello-golf-shop-tournament/
END:VEVENT
BEGIN:VEVENT
DTSTART;VALUE=DATE:20250620
DTEND;VALUE=DATE:20250621
DTSTAMP:20260423T082918
CREATED:20250504T055826Z
LAST-MODIFIED:20250701T114729Z
UID:89309-1750377600-1750463999@castiello.com
SUMMARY:1st Sauce NGO Prize: J. L. Álvarez Margaride Memorial (private)
DESCRIPTION:Hole Allocation (Shotgun start at 12:00 p.m.)\nHandicap Leaderboard
URL:https://castiello.com/en/evento_calendario/1st-sauce-ngo-prize-j-l-alvarez-margaride-memorial-private/
END:VEVENT
BEGIN:VEVENT
DTSTART;VALUE=DATE:20250619
DTEND;VALUE=DATE:20250620
DTSTAMP:20260423T082918
CREATED:20250504T055730Z
LAST-MODIFIED:20250701T114809Z
UID:89311-1750291200-1750377599@castiello.com
SUMMARY:2025 Club Series Golf (private)
DESCRIPTION:Hole Allocation (Shotgun start at 9:15 a.m.)\nOverall Leaderboard
URL:https://castiello.com/en/evento_calendario/2025-club-series-golf-private/
END:VEVENT
BEGIN:VEVENT
DTSTART;VALUE=DATE:20250615
DTEND;VALUE=DATE:20250616
DTSTAMP:20260423T082918
CREATED:20250613T073955Z
LAST-MODIFIED:20250701T114940Z
UID:89339-1749945600-1750031999@castiello.com
SUMMARY:5th Category Circuit II
DESCRIPTION:Tee Times\nLeaderboard
URL:https://castiello.com/en/evento_calendario/5th-category-circuit-ii/
END:VEVENT
BEGIN:VEVENT
DTSTART;TZID=UTC:20250614T080000
DTEND;TZID=UTC:20250615T170000
DTSTAMP:20260423T082918
CREATED:20250504T054004Z
LAST-MODIFIED:20250701T115037Z
UID:89340-1749888000-1750006800@castiello.com
SUMMARY:2025 Principality of Asturias Doubles Championship
DESCRIPTION:Saturday Tee Times
URL:https://castiello.com/en/evento_calendario/2025-principality-of-asturias-doubles-championship/
END:VEVENT
BEGIN:VEVENT
DTSTART;VALUE=DATE:20250610
DTEND;VALUE=DATE:20250611
DTSTAMP:20260423T082918
CREATED:20250504T053917Z
LAST-MODIFIED:20250701T115059Z
UID:89342-1749513600-1749599999@castiello.com
SUMMARY:2025 Martes de Campo Tournament (private)
DESCRIPTION:
URL:https://castiello.com/en/evento_calendario/2025-martes-de-campo-tournament-private/
END:VEVENT
BEGIN:VEVENT
DTSTART;VALUE=DATE:20250608
DTEND;VALUE=DATE:20250609
DTSTAMP:20260423T082918
CREATED:20250504T053831Z
LAST-MODIFIED:20250701T115151Z
UID:89344-1749340800-1749427199@castiello.com
SUMMARY:Interclubs Real Club de Golf La Cuesta – R.C.G. Castiello (Away)
DESCRIPTION:-Tee Times\nHandicap Leaderboard\nScratch Leaderboard\nClosest to the Pin Prize
URL:https://castiello.com/en/evento_calendario/interclubs-real-club-de-golf-la-cuesta-r-c-g-castiello-away/
END:VEVENT
BEGIN:VEVENT
DTSTART;VALUE=DATE:20250607
DTEND;VALUE=DATE:20250608
DTSTAMP:20260423T082918
CREATED:20250504T053725Z
LAST-MODIFIED:20250701T115251Z
UID:89345-1749254400-1749340799@castiello.com
SUMMARY:2nd Dintel Services and Contracting Tournament
DESCRIPTION:Hole Allocation\nSaturday Leaderboard\nOverall Leaderboard\nWinners Chart
URL:https://castiello.com/en/evento_calendario/2nd-dintel-services-and-contracting-tournament/
END:VEVENT
END:VCALENDAR