BEGIN:VCALENDAR
VERSION:2.0
PRODID:-//Real Club de Golf de Castiello - ECPv6.15.11//NONSGML v1.0//EN
CALSCALE:GREGORIAN
METHOD:PUBLISH
X-ORIGINAL-URL:https://castiello.com/en/
X-WR-CALDESC:Events for Real Club de Golf de Castiello
REFRESH-INTERVAL;VALUE=DURATION:PT1H
X-Robots-Tag:noindex
X-PUBLISHED-TTL:PT1H
BEGIN:VTIMEZONE
TZID:UTC
BEGIN:STANDARD
TZOFFSETFROM:+0000
TZOFFSETTO:+0000
TZNAME:UTC
DTSTART:20240101T000000
END:STANDARD
END:VTIMEZONE
BEGIN:VEVENT
DTSTART;VALUE=DATE:20250911
DTEND;VALUE=DATE:20250912
DTSTAMP:20260423T113652
CREATED:20250504T071212Z
LAST-MODIFIED:20250701T113209Z
UID:89234-1757548800-1757635199@castiello.com
SUMMARY:Aesgolf La Santina Tournament
DESCRIPTION:
URL:https://castiello.com/en/evento_calendario/aesgolf-la-santina-tournament/
END:VEVENT
BEGIN:VEVENT
DTSTART;VALUE=DATE:20250913
DTEND;VALUE=DATE:20250914
DTSTAMP:20260423T113652
CREATED:20250504T071251Z
LAST-MODIFIED:20250701T113149Z
UID:89232-1757721600-1757807999@castiello.com
SUMMARY:Olympia Road Tour 2025
DESCRIPTION:
URL:https://castiello.com/en/evento_calendario/olympia-road-tour-2025/
END:VEVENT
BEGIN:VEVENT
DTSTART;VALUE=DATE:20250914
DTEND;VALUE=DATE:20250915
DTSTAMP:20260423T113652
CREATED:20250504T071336Z
LAST-MODIFIED:20250701T113140Z
UID:89231-1757808000-1757894399@castiello.com
SUMMARY:2 Cup 2025
DESCRIPTION:
URL:https://castiello.com/en/evento_calendario/2-cup-2025/
END:VEVENT
BEGIN:VEVENT
DTSTART;VALUE=DATE:20250920
DTEND;VALUE=DATE:20250921
DTSTAMP:20260423T113652
CREATED:20250504T071412Z
LAST-MODIFIED:20250701T113128Z
UID:89230-1758326400-1758412799@castiello.com
SUMMARY:5th Insure Brokers Tournament
DESCRIPTION:
URL:https://castiello.com/en/evento_calendario/5th-insure-brokers-tournament/
END:VEVENT
BEGIN:VEVENT
DTSTART;VALUE=DATE:20250921
DTEND;VALUE=DATE:20250922
DTSTAMP:20260423T113652
CREATED:20250504T071748Z
LAST-MODIFIED:20250701T113104Z
UID:89229-1758412800-1758499199@castiello.com
SUMMARY:Final – 19th Diario El Comercio Golf Tournament
DESCRIPTION:
URL:https://castiello.com/en/evento_calendario/final-19th-diario-el-comercio-golf-tournament/
END:VEVENT
BEGIN:VEVENT
DTSTART;TZID=UTC:20250925T080000
DTEND;TZID=UTC:20250928T170000
DTSTAMP:20260423T113652
CREATED:20250504T071834Z
LAST-MODIFIED:20250701T113042Z
UID:89224-1758787200-1759078800@castiello.com
SUMMARY:2025 Spanish Men’s Interclub Championship
DESCRIPTION:
URL:https://castiello.com/en/evento_calendario/2025-spanish-mens-interclub-championship/
END:VEVENT
BEGIN:VEVENT
DTSTART;VALUE=DATE:20251004
DTEND;VALUE=DATE:20251005
DTSTAMP:20260423T113652
CREATED:20250504T071912Z
LAST-MODIFIED:20250701T113006Z
UID:89223-1759536000-1759622399@castiello.com
SUMMARY:17th Habecu Charity Tournament
DESCRIPTION:
URL:https://castiello.com/en/evento_calendario/17th-habecu-charity-tournament/
END:VEVENT
BEGIN:VEVENT
DTSTART;VALUE=DATE:20251011
DTEND;VALUE=DATE:20251012
DTSTAMP:20260423T113652
CREATED:20250504T072012Z
LAST-MODIFIED:20250701T112942Z
UID:89221-1760140800-1760227199@castiello.com
SUMMARY:2025 Club Sponsors Tournament
DESCRIPTION:
URL:https://castiello.com/en/evento_calendario/2025-club-sponsors-tournament/
END:VEVENT
BEGIN:VEVENT
DTSTART;VALUE=DATE:20251012
DTEND;VALUE=DATE:20251013
DTSTAMP:20260423T113652
CREATED:20250504T072855Z
LAST-MODIFIED:20250701T112914Z
UID:89220-1760227200-1760313599@castiello.com
SUMMARY:III Memorial Joseph
DESCRIPTION:
URL:https://castiello.com/en/evento_calendario/iii-memorial-joseph/
END:VEVENT
BEGIN:VEVENT
DTSTART;VALUE=DATE:20251018
DTEND;VALUE=DATE:20251019
DTSTAMP:20260423T113652
CREATED:20250504T072942Z
LAST-MODIFIED:20250701T112900Z
UID:89219-1760745600-1760831999@castiello.com
SUMMARY:2025 Volvo Corporate Circuit
DESCRIPTION:
URL:https://castiello.com/en/evento_calendario/2025-volvo-corporate-circuit/
END:VEVENT
BEGIN:VEVENT
DTSTART;VALUE=DATE:20251122
DTEND;VALUE=DATE:20251123
DTSTAMP:20260423T113652
CREATED:20250504T073045Z
LAST-MODIFIED:20250701T112559Z
UID:89216-1763769600-1763855999@castiello.com
SUMMARY:1st RCG Castiello Restaurant Tournament By Alejandro Galán
DESCRIPTION:
URL:https://castiello.com/en/evento_calendario/1st-rcg-castiello-restaurant-tournament-by-alejandro-galan/
END:VEVENT
END:VCALENDAR